BEGIN:VCALENDAR
VERSION:2.0
PRODID:-//Ewshot Parish Council//Meeting Calendar//EN
CALSCALE:GREGORIAN
METHOD:PUBLISH
BEGIN:VEVENT
UID:70900-20260511@ewshotparishcouncil.gov.uk
DTSTAMP:20260422T090440Z
DTSTART;VALUE=DATE:20260511
DTEND;VALUE=DATE:20260512
SUMMARY:Council Meeting &#8211\\; 11 May 2026
DESCRIPTION:Full Council Meeting\nView details: https://ewshotparishcouncil.gov.uk/meetings/council-meeting-11-may-2026/
URL:https://ewshotparishcouncil.gov.uk/meetings/council-meeting-11-may-2026/
END:VEVENT
END:VCALENDAR
